BEGIN:VCALENDAR
VERSION:2.0
PRODID:Imitheme.com 
BEGIN:VEVENT
UID:20260422T1052371966644233
DTSTAMP;TZID=UTC:2026-04-22 10:52:37
DTSTART;TZID=America/Los_Angeles:20260422T105237
DTEND;TZID=America/Los_Angeles:20260422T105237
SUMMARY:Campionat Mallorca Atletisme Open (Menorca, Eivissa i Formentera FC)
LOCATION:Mallorca
DESCRIPTION:Convocatòria  Resultats
URL:https://www.fesaib.org/eventer/campionat-mallorca-atletisme-open-menorca-eivissa-i-formentera-fc/
END:VEVENT
END:VCALENDAR
